BEGIN:VCALENDAR
VERSION:2.0
PRODID:-//BETH YACOV - ECPv4.9.14//NONSGML v1.0//EN
CALSCALE:GREGORIAN
METHOD:PUBLISH
X-WR-CALNAME:BETH YACOV
X-ORIGINAL-URL:http://bethyacov.fr
X-WR-CALDESC:Évènements pour BETH YACOV
BEGIN:VTIMEZONE
TZID:Europe/Paris
BEGIN:DAYLIGHT
TZOFFSETFROM:+0100
TZOFFSETTO:+0200
TZNAME:CEST
DTSTART:20190331T010000
END:DAYLIGHT
BEGIN:STANDARD
TZOFFSETFROM:+0200
TZOFFSETTO:+0100
TZNAME:CET
DTSTART:20191027T010000
END:STANDARD
END:VTIMEZONE
BEGIN:VEVENT
DTSTART;VALUE=DATE:20190819
DTEND;VALUE=DATE:20190820
DTSTAMP:20260424T093446
CREATED:20140822T092734Z
LAST-MODIFIED:20140822T092734Z
UID:7065-1566172800-1566259199@bethyacov.fr
SUMMARY:Summer Abroad Student Meeting
DESCRIPTION:\nTo be the first to enter the cosmos\, to engage\, single-handed\, in an unprecedented duel with nature—could one dream of anything more? \nI don’t know what you could say about a day in which you have seen four beautiful sunsets. \nDinosaurs are extinct today because they lacked opposable thumbs and the brainpower to build a space program. \n\n
URL:http://bethyacov.fr/event/summer-abroad-student-meeting/
LOCATION:Faculty Advisors
ATTACH;FMTTYPE=:
END:VEVENT
END:VCALENDAR